BEGIN:VCALENDAR
VERSION:2.0
PRODID:-//dhtmlXScheduler//NONSGML v2.2//EN
X-WR-CALNAME:Wydarzenia
BEGIN:VEVENT
DTSTART:20230222T100000
DTEND:20230222T150000
UID:1
SUMMARY:SATGISPLAN 2023 – PREZENTACJA WYNIKÓW PRAC DYPLOMOWYCH ABSOLWENTÓW KIERUNKU GEOINFORMATYKA I TECHNIKI SATELITARNE
END:VEVENT
END:VCALENDAR